BEGIN:VCALENDAR
VERSION:2.0
PRODID:icalendar-ruby
CALSCALE:GREGORIAN
METHOD:PUBLISH
BEGIN:VEVENT
DTSTAMP:20260422T104541Z
UID:216-2141068@trinitykissimmee.com
DTSTART:20261014T230000Z
DTEND:20261015T003000Z
CLASS:PUBLIC
CREATED:20260421T203438
DESCRIPTION:Youth Group Grades  6 through 12.\nChapel service\, fellowship
 \, and fun!\nWe will be doing fun activities\, fundraisers to be able to d
 o the fun activities\, and service and volunteer activities!\n 
LAST-MODIFIED:20260421T203438
LOCATION:
SUMMARY:Youth Group
URL;VALUE=URI:https://www.trinitykissimmee.com/events/youth-group/2026-10-1
 4
END:VEVENT
END:VCALENDAR
