BEGIN:VCALENDAR
VERSION:2.0
PRODID:icalendar-ruby
CALSCALE:GREGORIAN
METHOD:PUBLISH
BEGIN:VEVENT
DTSTAMP:20260422T122642Z
UID:216-2142545@trinitykissimmee.com
DTSTART:20261021T230000Z
DTEND:20261022T003000Z
CLASS:PUBLIC
CREATED:20260422T073703
DESCRIPTION:Youth Group Grades  6 through 12.\nChapel service\, fellowship
 \, and fun!\nWe will be doing fun activities\, fundraisers to be able to d
 o the fun activities\, and service and volunteer activities!\n 
LAST-MODIFIED:20260422T073703
LOCATION:
SUMMARY:Youth Group
URL;VALUE=URI:https://www.trinitykissimmee.com/events/youth-group/2026-10-2
 1
END:VEVENT
END:VCALENDAR
